BEGIN:VCALENDAR
VERSION:2.0
PRODID:-//Old Bridge Village - ECPv6.15.14//NONSGML v1.0//EN
CALSCALE:GREGORIAN
METHOD:PUBLISH
X-WR-CALNAME:Old Bridge Village
X-ORIGINAL-URL:https://oldbridgevillage.net
X-WR-CALDESC:Events for Old Bridge Village
REFRESH-INTERVAL;VALUE=DURATION:PT1H
X-Robots-Tag:noindex
X-PUBLISHED-TTL:PT1H
BEGIN:VTIMEZONE
TZID:UTC
BEGIN:STANDARD
TZOFFSETFROM:+0000
TZOFFSETTO:+0000
TZNAME:UTC
DTSTART:20240101T000000
END:STANDARD
END:VTIMEZONE
BEGIN:VTIMEZONE
TZID:America/New_York
BEGIN:DAYLIGHT
TZOFFSETFROM:-0500
TZOFFSETTO:-0400
TZNAME:EDT
DTSTART:20240310T070000
END:DAYLIGHT
BEGIN:STANDARD
TZOFFSETFROM:-0400
TZOFFSETTO:-0500
TZNAME:EST
DTSTART:20241103T060000
END:STANDARD
BEGIN:DAYLIGHT
TZOFFSETFROM:-0500
TZOFFSETTO:-0400
TZNAME:EDT
DTSTART:20250309T070000
END:DAYLIGHT
BEGIN:STANDARD
TZOFFSETFROM:-0400
TZOFFSETTO:-0500
TZNAME:EST
DTSTART:20251102T060000
END:STANDARD
BEGIN:DAYLIGHT
TZOFFSETFROM:-0500
TZOFFSETTO:-0400
TZNAME:EDT
DTSTART:20260308T070000
END:DAYLIGHT
BEGIN:STANDARD
TZOFFSETFROM:-0400
TZOFFSETTO:-0500
TZNAME:EST
DTSTART:20261101T060000
END:STANDARD
END:VTIMEZONE
BEGIN:VEVENT
DTSTART;TZID=UTC:20251126T180000
DTEND;TZID=UTC:20251126T220000
DTSTAMP:20260421T063219
CREATED:20250213T054102Z
LAST-MODIFIED:20250213T054102Z
UID:10003664-1764180000-1764194400@oldbridgevillage.net
SUMMARY:Private Card Group - White House
DESCRIPTION:Private Card Group\, every Wednesday in the White House\, 6:00-10:00pm.
URL:https://oldbridgevillage.net/event/private-card-group-white-house/2025-11-26/
LOCATION:The White House
END:VEVENT
BEGIN:VEVENT
DTSTART;TZID=America/New_York:20251126T180000
DTEND;TZID=America/New_York:20251126T210000
DTSTAMP:20260421T063219
CREATED:20250903T172920Z
LAST-MODIFIED:20251111T172036Z
UID:10006420-1764180000-1764190800@oldbridgevillage.net
SUMMARY:BINGO - Only $1 bills accepted
DESCRIPTION:The Social Alliance Presents Bingo every Wednesday Night! \nDoors Open at 6:00 pm\, Sales End at 6:45 pm\, Game Starts at 7:00 pm. \nMust wear your Social Alliance Badge! $1.00 Bills only\, Please!
URL:https://oldbridgevillage.net/event/bingo-only-1-bills-accepted-2/2025-11-26/
LOCATION:The Clubhouse
ORGANIZER;CN="Social Alliance":MAILTO:obvevents239@gmail.com
END:VEVENT
BEGIN:VEVENT
DTSTART;TZID=America/New_York:20251126T093000
DTEND;TZID=America/New_York:20251126T113000
DTSTAMP:20260421T063219
CREATED:20250918T161921Z
LAST-MODIFIED:20251208T150239Z
UID:10007429-1764149400-1764156600@oldbridgevillage.net
SUMMARY:Chorus Rehearsal - Clubhouse
DESCRIPTION:Chorus Rehearsal at the Clubhouse. \nEvie Clarke
URL:https://oldbridgevillage.net/event/chorus-rehearsal-clubhouse/2025-11-26/
LOCATION:The Clubhouse
END:VEVENT
BEGIN:VEVENT
DTSTART;TZID=UTC:20251125T083000
DTEND;TZID=UTC:20251125T170000
DTSTAMP:20260421T063219
CREATED:20250125T023654Z
LAST-MODIFIED:20250220T213221Z
UID:10000520-1764059400-1764090000@oldbridgevillage.net
SUMMARY:Yacht Club Meeting\, Boat to Lunch\, and Propose Bridge for 2026
DESCRIPTION:Yacht Club Meeting\, Boat to Lunch\, and Propose Bridge for 2026. \nCoffee at 8:30am\, meeting at 9:00am. \nYacht Club members only. \nClubhouse reserved from 8:00am – 10:00am.
URL:https://oldbridgevillage.net/event/yacht-club-meeting-boat-to-lunch-and-propose-2026-bridge/
LOCATION:The Clubhouse
ORGANIZER;CN="Yacht Club":MAILTO:obvevents239@gmail.com
END:VEVENT
BEGIN:VEVENT
DTSTART;TZID=UTC:20251124T183000
DTEND;TZID=UTC:20251124T213000
DTSTAMP:20260421T063219
CREATED:20250213T051623Z
LAST-MODIFIED:20260303T172325Z
UID:10003065-1764009000-1764019800@oldbridgevillage.net
SUMMARY:Euchre\, Mixed - Card Room
DESCRIPTION:Euchre\, Mixed\, every Monday in the Card Room\, 6:30-9:30. \nBea Strickler
URL:https://oldbridgevillage.net/event/euchre-mixed-card-room/2025-11-24/
LOCATION:Card Room\, Club House
END:VEVENT
BEGIN:VEVENT
DTSTART;TZID=America/New_York:20251124T110000
DTEND;TZID=America/New_York:20251124T120000
DTSTAMP:20260421T063219
CREATED:20251014T184935Z
LAST-MODIFIED:20251014T184935Z
UID:10006836-1763982000-1763985600@oldbridgevillage.net
SUMMARY:Entertainment Volunteer Team Meeting - White House
DESCRIPTION:Entertainment Volunteer Team Meeting – White House. \nDick Presendofer
URL:https://oldbridgevillage.net/event/entertainment-volunteer-team-meeting-white-house/
LOCATION:The White House
ORGANIZER;CN="Entertainment":MAILTO:obvevents239@gmail.com
END:VEVENT
BEGIN:VEVENT
DTSTART;TZID=America/New_York:20251124T100000
DTEND;TZID=America/New_York:20251124T120000
DTSTAMP:20260421T063219
CREATED:20251118T213234Z
LAST-MODIFIED:20251118T213234Z
UID:10007104-1763978400-1763985600@oldbridgevillage.net
SUMMARY:Fashion Show meeting - Card Room
DESCRIPTION:Fashion Show meeting at the Card Room. \nAnita Grieger.
URL:https://oldbridgevillage.net/event/fashion-show-meeting-card-room/
LOCATION:Card Room\, Club House
ORGANIZER;CN="Social Alliance":MAILTO:obvevents239@gmail.com
END:VEVENT
BEGIN:VEVENT
DTSTART;TZID=UTC:20251123T180000
DTEND;TZID=UTC:20251123T210000
DTSTAMP:20260421T063219
CREATED:20250210T203135Z
LAST-MODIFIED:20260127T221722Z
UID:10001800-1763920800-1763931600@oldbridgevillage.net
SUMMARY:Dominoes\, Mexican Train - Clubhouse
DESCRIPTION:Dominoes\, Mexican Train\, in the Clubhouse – Thursdays and Sundays at 6:00 in the Clubhouse main room. \nNo dominoes on 2nd Thursdays of the month due to Potluck on 2nd Thursdays. \nMarion Stitt
URL:https://oldbridgevillage.net/event/dominoes/2025-11-23/
LOCATION:The Clubhouse
ORGANIZER;CN="Social Alliance":MAILTO:obvevents239@gmail.com
END:VEVENT
BEGIN:VEVENT
DTSTART;TZID=America/New_York:20251123T130000
DTEND;TZID=America/New_York:20251123T170000
DTSTAMP:20260421T063219
CREATED:20250909T215752Z
LAST-MODIFIED:20260221T171656Z
UID:10006472-1763902800-1763917200@oldbridgevillage.net
SUMMARY:Private - Hand\, Knee & Foot - Clubhouse
DESCRIPTION:Hand\, Knee & Foot – every Sunday in the Clubhouse\, 1:00-5:00. \nPrivate event. \nSandy LaChance
URL:https://oldbridgevillage.net/event/private-hand-knee-foot-clubhouse/2025-11-23/
LOCATION:The Clubhouse
END:VEVENT
BEGIN:VEVENT
DTSTART;TZID=UTC:20251122T080000
DTEND;TZID=UTC:20251122T100000
DTSTAMP:20260421T063219
CREATED:20250210T202129Z
LAST-MODIFIED:20260106T210931Z
UID:10001500-1763798400-1763805600@oldbridgevillage.net
SUMMARY:Koffee Klatch - Please wear your Social Alliance badge
DESCRIPTION:Koffee Klatch in the Clubhouse. Come up and see what events are coming up\, meet new friends and neighbors\, visit the Village Store\, get in the Yacht Club’s 50/50 raffle\, and get some good coffee and donuts. Here you can sign up to join the Social Alliance and the Yacht Club\, buy tickets to upcoming events\, sign up for events like potluck and other non-ticketed events\, hear about volunteer opportunities\, and more. \n8:00-9:00 – Koffee Klatch. \n9:00-? – Hear about the upcoming events and activities.
URL:https://oldbridgevillage.net/event/koffee-klatch/2025-11-22/
LOCATION:The Clubhouse
ORGANIZER;CN="Social Alliance":MAILTO:obvevents239@gmail.com
END:VEVENT
BEGIN:VEVENT
DTSTART;TZID=UTC:20251122T073000
DTEND;TZID=UTC:20251122T110000
DTSTAMP:20260421T063219
CREATED:20250227T194025Z
LAST-MODIFIED:20251208T145717Z
UID:10005686-1763796600-1763809200@oldbridgevillage.net
SUMMARY:Village Store is open Saturday morning!
DESCRIPTION:The Village Store is open Saturday morning from 7:30-9:00 and 9:30-11:00. \nStop by to see all of the wonderful items the Village Store has to offer. New items added weekly. \nIf you are a crafter\, talk to us about selling your items in our store. \n 
URL:https://oldbridgevillage.net/event/village-store-is-open-saturday-morning/2025-11-22/
ORGANIZER;CN="Social Alliance":MAILTO:obvevents239@gmail.com
END:VEVENT
BEGIN:VEVENT
DTSTART;TZID=UTC:20251121T173000
DTEND;TZID=UTC:20251121T220000
DTSTAMP:20260421T063219
CREATED:20250125T023545Z
LAST-MODIFIED:20251106T150903Z
UID:10000519-1763746200-1763762400@oldbridgevillage.net
SUMMARY:Shipwreck Party - Yacht Club
DESCRIPTION:Shipwreck Party – Yacht Club. \n5:15 – Happy Hour. \n5:45 – Dinner\, catered by Pop’z BBQ. \n7:00-9:00 – The Band “Smokin’ Aces” will be playing. \nShipwreck theme outfits encouraged! \nYacht Club members only. \nClubhouse reserved from 1:00pm – 10:00pm.
URL:https://oldbridgevillage.net/event/shipwreck-party-yacht-club/
LOCATION:The Clubhouse
ORGANIZER;CN="Yacht Club":MAILTO:obvevents239@gmail.com
END:VEVENT
BEGIN:VEVENT
DTSTART;TZID=UTC:20251120T180000
DTEND;TZID=UTC:20251120T210000
DTSTAMP:20260421T063219
CREATED:20250210T203135Z
LAST-MODIFIED:20260127T221722Z
UID:10002281-1763661600-1763672400@oldbridgevillage.net
SUMMARY:Dominoes\, Mexican Train - Clubhouse
DESCRIPTION:Dominoes\, Mexican Train\, in the Clubhouse – Thursdays and Sundays at 6:00 in the Clubhouse main room. \nNo dominoes on 2nd Thursdays of the month due to Potluck on 2nd Thursdays. \nMarion Stitt
URL:https://oldbridgevillage.net/event/dominoes/2025-11-20/
LOCATION:The Clubhouse
ORGANIZER;CN="Social Alliance":MAILTO:obvevents239@gmail.com
END:VEVENT
BEGIN:VEVENT
DTSTART;TZID=UTC:20251120T140000
DTEND;TZID=UTC:20251120T160000
DTSTAMP:20260421T063219
CREATED:20250206T234202Z
LAST-MODIFIED:20260318T153547Z
UID:10006979-1763647200-1763654400@oldbridgevillage.net
SUMMARY:Architectural meeting - White House
DESCRIPTION:Architectural meeting at the White House. \n1st & 3rd Thursday of every month – 2:00-4:00. \nResidents are welcome.
URL:https://oldbridgevillage.net/event/architectural-meeting-at-the-white-house-2/2025-11-20/
LOCATION:The White House
END:VEVENT
BEGIN:VEVENT
DTSTART;TZID=UTC:20251120T130000
DTEND;TZID=UTC:20251120T140000
DTSTAMP:20260421T063219
CREATED:20250213T054825Z
LAST-MODIFIED:20260225T144201Z
UID:10004447-1763643600-1763647200@oldbridgevillage.net
SUMMARY:Crafty Ladies - Card Room
DESCRIPTION:Crafty Ladies\, every Thursday\, in the Card Room\, 1:00-2:00pm.
URL:https://oldbridgevillage.net/event/crafty-ladies-card-room/2025-11-20/
LOCATION:Card Room\, Club House
END:VEVENT
BEGIN:VEVENT
DTSTART;TZID=UTC:20251120T120000
DTEND;TZID=UTC:20251120T160000
DTSTAMP:20260421T063219
CREATED:20250303T214208Z
LAST-MODIFIED:20260205T155844Z
UID:10005791-1763640000-1763654400@oldbridgevillage.net
SUMMARY:Private - Samba Cards - Clubhouse
DESCRIPTION:Samba Cards\, every Thursday at the Clubhouse\, 12:00-4:00pm. \nPrivate event. \nSandy LaChance
URL:https://oldbridgevillage.net/event/private-samba-cards-clubhouse/2025-11-20/
LOCATION:The Clubhouse
END:VEVENT
BEGIN:VEVENT
DTSTART;TZID=America/New_York:20251120T100000
DTEND;TZID=America/New_York:20251120T110000
DTSTAMP:20260421T063219
CREATED:20251103T144324Z
LAST-MODIFIED:20251112T153827Z
UID:10006944-1763632800-1763636400@oldbridgevillage.net
SUMMARY:OBV Manager Meet & Greet - Card Room
DESCRIPTION:Stop by the “OBV Manager Meet & Greet” event at the Clubhouse Card Room. \nResidents can come by and meet our park manager\, Jill Flowers\, and discuss\, share and question topics regarding Old Bridge Village. \n 
URL:https://oldbridgevillage.net/event/obv-manager-meet-greet/
LOCATION:Card Room\, Club House
END:VEVENT
BEGIN:VEVENT
DTSTART;TZID=America/New_York:20251120T080000
DTEND;TZID=America/New_York:20251120T110000
DTSTAMP:20260421T063219
CREATED:20251114T194954Z
LAST-MODIFIED:20251114T194954Z
UID:10007101-1763625600-1763636400@oldbridgevillage.net
SUMMARY:Sunshine Angels - White House
DESCRIPTION:Sunshine Angels at the White House. \nTammy Vickery
URL:https://oldbridgevillage.net/event/sunshine-angels-white-house-2/
LOCATION:The White House
END:VEVENT
BEGIN:VEVENT
DTSTART;TZID=UTC:20251119T180000
DTEND;TZID=UTC:20251119T220000
DTSTAMP:20260421T063219
CREATED:20250213T054102Z
LAST-MODIFIED:20250213T054102Z
UID:10003663-1763575200-1763589600@oldbridgevillage.net
SUMMARY:Private Card Group - White House
DESCRIPTION:Private Card Group\, every Wednesday in the White House\, 6:00-10:00pm.
URL:https://oldbridgevillage.net/event/private-card-group-white-house/2025-11-19/
LOCATION:The White House
END:VEVENT
BEGIN:VEVENT
DTSTART;TZID=America/New_York:20251119T180000
DTEND;TZID=America/New_York:20251119T210000
DTSTAMP:20260421T063219
CREATED:20250903T172920Z
LAST-MODIFIED:20251111T172036Z
UID:10006419-1763575200-1763586000@oldbridgevillage.net
SUMMARY:BINGO - Only $1 bills accepted
DESCRIPTION:The Social Alliance Presents Bingo every Wednesday Night! \nDoors Open at 6:00 pm\, Sales End at 6:45 pm\, Game Starts at 7:00 pm. \nMust wear your Social Alliance Badge! $1.00 Bills only\, Please!
URL:https://oldbridgevillage.net/event/bingo-only-1-bills-accepted-2/2025-11-19/
LOCATION:The Clubhouse
ORGANIZER;CN="Social Alliance":MAILTO:obvevents239@gmail.com
END:VEVENT
BEGIN:VEVENT
DTSTART;TZID=America/New_York:20251119T093000
DTEND;TZID=America/New_York:20251119T113000
DTSTAMP:20260421T063219
CREATED:20250918T161921Z
LAST-MODIFIED:20251208T150239Z
UID:10007428-1763544600-1763551800@oldbridgevillage.net
SUMMARY:Chorus Rehearsal - Clubhouse
DESCRIPTION:Chorus Rehearsal at the Clubhouse. \nEvie Clarke
URL:https://oldbridgevillage.net/event/chorus-rehearsal-clubhouse/2025-11-19/
LOCATION:The Clubhouse
END:VEVENT
BEGIN:VEVENT
DTSTART;TZID=UTC:20251119T070000
DTEND;TZID=UTC:20251119T110000
DTSTAMP:20260421T063219
CREATED:20250221T194703Z
LAST-MODIFIED:20260122T172420Z
UID:10005542-1763535600-1763550000@oldbridgevillage.net
SUMMARY:Private party - White House
DESCRIPTION:Private Party at the White House – 8:00am – 11:00am. \nViv Trebbien
URL:https://oldbridgevillage.net/event/private-party-white-house/2025-11-19/
LOCATION:The White House
END:VEVENT
BEGIN:VEVENT
DTSTART;TZID=America/New_York:20251118T190000
DTEND;TZID=America/New_York:20251118T220000
DTSTAMP:20260421T063219
CREATED:20250626T225013Z
LAST-MODIFIED:20250626T225013Z
UID:10006357-1763492400-1763503200@oldbridgevillage.net
SUMMARY:Bridging the Gap presents "Moolah" at the Clubhouse. 
DESCRIPTION:Bridging the Gap presents “Moolah” at the Clubhouse. \n7:00 pm – 9:00 pm. \nBring 20 – $1 bills.
URL:https://oldbridgevillage.net/event/bridging-the-gap-presents-moolah-at-the-clubhouse/
LOCATION:The Clubhouse
END:VEVENT
BEGIN:VEVENT
DTSTART;TZID=America/New_York:20251118T100000
DTEND;TZID=America/New_York:20251118T110000
DTSTAMP:20260421T063219
CREATED:20251010T163637Z
LAST-MODIFIED:20251010T163637Z
UID:10006814-1763460000-1763463600@oldbridgevillage.net
SUMMARY:Social Alliance committee meeting - Card Room
DESCRIPTION:Social Alliance committee meeting\, every Tuesday\, 10:00-11:00 am in the Clubhouse Card Room.
URL:https://oldbridgevillage.net/event/social-alliance-committee-meeting-card-room/2025-11-18/
LOCATION:Card Room\, Club House
ORGANIZER;CN="Social Alliance":MAILTO:obvevents239@gmail.com
END:VEVENT
BEGIN:VEVENT
DTSTART;TZID=UTC:20251117T183000
DTEND;TZID=UTC:20251117T213000
DTSTAMP:20260421T063219
CREATED:20250213T051623Z
LAST-MODIFIED:20260303T172325Z
UID:10003064-1763404200-1763415000@oldbridgevillage.net
SUMMARY:Euchre\, Mixed - Card Room
DESCRIPTION:Euchre\, Mixed\, every Monday in the Card Room\, 6:30-9:30. \nBea Strickler
URL:https://oldbridgevillage.net/event/euchre-mixed-card-room/2025-11-17/
LOCATION:Card Room\, Club House
END:VEVENT
BEGIN:VEVENT
DTSTART;TZID=America/New_York:20251117T090000
DTEND;TZID=America/New_York:20251117T100000
DTSTAMP:20260421T063219
CREATED:20251110T222159Z
LAST-MODIFIED:20251110T222159Z
UID:10006960-1763370000-1763373600@oldbridgevillage.net
SUMMARY:Palm Point Committee meeting - Card Room
DESCRIPTION:Palm Point Committee meeting in the Card Room. \nJack Kedian
URL:https://oldbridgevillage.net/event/palm-point-committee-meeting-card-room/
LOCATION:Card Room\, Club House
END:VEVENT
BEGIN:VEVENT
DTSTART;TZID=UTC:20251116T180000
DTEND;TZID=UTC:20251116T210000
DTSTAMP:20260421T063219
CREATED:20250210T203135Z
LAST-MODIFIED:20260127T221722Z
UID:10001798-1763316000-1763326800@oldbridgevillage.net
SUMMARY:Dominoes\, Mexican Train - Clubhouse
DESCRIPTION:Dominoes\, Mexican Train\, in the Clubhouse – Thursdays and Sundays at 6:00 in the Clubhouse main room. \nNo dominoes on 2nd Thursdays of the month due to Potluck on 2nd Thursdays. \nMarion Stitt
URL:https://oldbridgevillage.net/event/dominoes/2025-11-16/
LOCATION:The Clubhouse
ORGANIZER;CN="Social Alliance":MAILTO:obvevents239@gmail.com
END:VEVENT
BEGIN:VEVENT
DTSTART;TZID=America/New_York:20251116T130000
DTEND;TZID=America/New_York:20251116T170000
DTSTAMP:20260421T063219
CREATED:20250909T215752Z
LAST-MODIFIED:20260221T171656Z
UID:10006471-1763298000-1763312400@oldbridgevillage.net
SUMMARY:Private - Hand\, Knee & Foot - Clubhouse
DESCRIPTION:Hand\, Knee & Foot – every Sunday in the Clubhouse\, 1:00-5:00. \nPrivate event. \nSandy LaChance
URL:https://oldbridgevillage.net/event/private-hand-knee-foot-clubhouse/2025-11-16/
LOCATION:The Clubhouse
END:VEVENT
BEGIN:VEVENT
DTSTART;TZID=UTC:20251115T170000
DTEND;TZID=UTC:20251115T210000
DTSTAMP:20260421T063219
CREATED:20250227T021003Z
LAST-MODIFIED:20251008T212959Z
UID:10005632-1763226000-1763240400@oldbridgevillage.net
SUMMARY:Ice Cream Social and Karaoke - Clubhouse
DESCRIPTION:Ice Cream Social at the Clubhouse. $3 – two scoops with all the toppings! \nKaraoke following the Ice Cream Social. \nDonna Chandler
URL:https://oldbridgevillage.net/event/ice-cream-social-clubhouse-4/
LOCATION:Clubhouse Kitchen
ORGANIZER;CN="Social Alliance":MAILTO:obvevents239@gmail.com
END:VEVENT
BEGIN:VEVENT
DTSTART;TZID=America/New_York:20251115T080000
DTEND;TZID=America/New_York:20251115T130000
DTSTAMP:20260421T063219
CREATED:20251008T211226Z
LAST-MODIFIED:20251106T150430Z
UID:10006952-1763193600-1763211600@oldbridgevillage.net
SUMMARY:OBV Community Wide Yard Sale
DESCRIPTION:The OBV Community Wide Yard Sale will be held every 2nd Thursday\, Friday and Saturday of each month during season. \nIf you are interested in having a yard sale\, please call Mary Greene before Noon on Wednesday at 1(239)747-9524.
URL:https://oldbridgevillage.net/event/obv-community-wide-yard-sale-2/2025-11-15/
END:VEVENT
END:VCALENDAR