BEGIN:VCALENDAR
VERSION:2.0
PRODID:-//Old Bridge Village - ECPv6.15.14//NONSGML v1.0//EN
CALSCALE:GREGORIAN
METHOD:PUBLISH
X-WR-CALNAME:Old Bridge Village
X-ORIGINAL-URL:https://oldbridgevillage.net
X-WR-CALDESC:Events for Old Bridge Village
REFRESH-INTERVAL;VALUE=DURATION:PT1H
X-Robots-Tag:noindex
X-PUBLISHED-TTL:PT1H
BEGIN:VTIMEZONE
TZID:UTC
BEGIN:STANDARD
TZOFFSETFROM:+0000
TZOFFSETTO:+0000
TZNAME:UTC
DTSTART:20250101T000000
END:STANDARD
END:VTIMEZONE
BEGIN:VEVENT
DTSTART;TZID=UTC:20260507T140000
DTEND;TZID=UTC:20260507T160000
DTSTAMP:20260422T074332
CREATED:20250206T234202Z
LAST-MODIFIED:20260318T153547Z
UID:10006990-1778162400-1778169600@oldbridgevillage.net
SUMMARY:Architectural meeting - White House
DESCRIPTION:Architectural meeting at the White House. \n1st & 3rd Thursday of every month – 2:00-4:00. \nResidents are welcome.
URL:https://oldbridgevillage.net/event/architectural-meeting-at-the-white-house-2/2026-05-07/
LOCATION:The White House
END:VEVENT
BEGIN:VEVENT
DTSTART;TZID=UTC:20260521T140000
DTEND;TZID=UTC:20260521T160000
DTSTAMP:20260422T074332
CREATED:20250206T234202Z
LAST-MODIFIED:20260318T153547Z
UID:10006991-1779372000-1779379200@oldbridgevillage.net
SUMMARY:Architectural meeting - White House
DESCRIPTION:Architectural meeting at the White House. \n1st & 3rd Thursday of every month – 2:00-4:00. \nResidents are welcome.
URL:https://oldbridgevillage.net/event/architectural-meeting-at-the-white-house-2/2026-05-21/
LOCATION:The White House
END:VEVENT
BEGIN:VEVENT
DTSTART;TZID=UTC:20260604T140000
DTEND;TZID=UTC:20260604T160000
DTSTAMP:20260422T074332
CREATED:20250206T234202Z
LAST-MODIFIED:20260318T153547Z
UID:10006992-1780581600-1780588800@oldbridgevillage.net
SUMMARY:Architectural meeting - White House
DESCRIPTION:Architectural meeting at the White House. \n1st & 3rd Thursday of every month – 2:00-4:00. \nResidents are welcome.
URL:https://oldbridgevillage.net/event/architectural-meeting-at-the-white-house-2/2026-06-04/
LOCATION:The White House
END:VEVENT
BEGIN:VEVENT
DTSTART;TZID=UTC:20260618T140000
DTEND;TZID=UTC:20260618T160000
DTSTAMP:20260422T074332
CREATED:20250206T234202Z
LAST-MODIFIED:20260318T153547Z
UID:10006993-1781791200-1781798400@oldbridgevillage.net
SUMMARY:Architectural meeting - White House
DESCRIPTION:Architectural meeting at the White House. \n1st & 3rd Thursday of every month – 2:00-4:00. \nResidents are welcome.
URL:https://oldbridgevillage.net/event/architectural-meeting-at-the-white-house-2/2026-06-18/
LOCATION:The White House
END:VEVENT
BEGIN:VEVENT
DTSTART;TZID=UTC:20260702T140000
DTEND;TZID=UTC:20260702T160000
DTSTAMP:20260422T074332
CREATED:20250206T234202Z
LAST-MODIFIED:20260318T153547Z
UID:10006994-1783000800-1783008000@oldbridgevillage.net
SUMMARY:Architectural meeting - White House
DESCRIPTION:Architectural meeting at the White House. \n1st & 3rd Thursday of every month – 2:00-4:00. \nResidents are welcome.
URL:https://oldbridgevillage.net/event/architectural-meeting-at-the-white-house-2/2026-07-02/
LOCATION:The White House
END:VEVENT
BEGIN:VEVENT
DTSTART;TZID=UTC:20260716T140000
DTEND;TZID=UTC:20260716T160000
DTSTAMP:20260422T074332
CREATED:20250206T234202Z
LAST-MODIFIED:20260318T153547Z
UID:10006995-1784210400-1784217600@oldbridgevillage.net
SUMMARY:Architectural meeting - White House
DESCRIPTION:Architectural meeting at the White House. \n1st & 3rd Thursday of every month – 2:00-4:00. \nResidents are welcome.
URL:https://oldbridgevillage.net/event/architectural-meeting-at-the-white-house-2/2026-07-16/
LOCATION:The White House
END:VEVENT
BEGIN:VEVENT
DTSTART;TZID=UTC:20260806T140000
DTEND;TZID=UTC:20260806T160000
DTSTAMP:20260422T074332
CREATED:20250206T234202Z
LAST-MODIFIED:20260318T153547Z
UID:10006996-1786024800-1786032000@oldbridgevillage.net
SUMMARY:Architectural meeting - White House
DESCRIPTION:Architectural meeting at the White House. \n1st & 3rd Thursday of every month – 2:00-4:00. \nResidents are welcome.
URL:https://oldbridgevillage.net/event/architectural-meeting-at-the-white-house-2/2026-08-06/
LOCATION:The White House
END:VEVENT
BEGIN:VEVENT
DTSTART;TZID=UTC:20260820T140000
DTEND;TZID=UTC:20260820T160000
DTSTAMP:20260422T074332
CREATED:20250206T234202Z
LAST-MODIFIED:20260318T153547Z
UID:10006997-1787234400-1787241600@oldbridgevillage.net
SUMMARY:Architectural meeting - White House
DESCRIPTION:Architectural meeting at the White House. \n1st & 3rd Thursday of every month – 2:00-4:00. \nResidents are welcome.
URL:https://oldbridgevillage.net/event/architectural-meeting-at-the-white-house-2/2026-08-20/
LOCATION:The White House
END:VEVENT
BEGIN:VEVENT
DTSTART;TZID=UTC:20260903T140000
DTEND;TZID=UTC:20260903T160000
DTSTAMP:20260422T074332
CREATED:20250206T234202Z
LAST-MODIFIED:20260318T153547Z
UID:10006998-1788444000-1788451200@oldbridgevillage.net
SUMMARY:Architectural meeting - White House
DESCRIPTION:Architectural meeting at the White House. \n1st & 3rd Thursday of every month – 2:00-4:00. \nResidents are welcome.
URL:https://oldbridgevillage.net/event/architectural-meeting-at-the-white-house-2/2026-09-03/
LOCATION:The White House
END:VEVENT
BEGIN:VEVENT
DTSTART;TZID=UTC:20260917T140000
DTEND;TZID=UTC:20260917T160000
DTSTAMP:20260422T074332
CREATED:20250206T234202Z
LAST-MODIFIED:20260318T153547Z
UID:10006999-1789653600-1789660800@oldbridgevillage.net
SUMMARY:Architectural meeting - White House
DESCRIPTION:Architectural meeting at the White House. \n1st & 3rd Thursday of every month – 2:00-4:00. \nResidents are welcome.
URL:https://oldbridgevillage.net/event/architectural-meeting-at-the-white-house-2/2026-09-17/
LOCATION:The White House
END:VEVENT
BEGIN:VEVENT
DTSTART;TZID=UTC:20261001T140000
DTEND;TZID=UTC:20261001T160000
DTSTAMP:20260422T074332
CREATED:20250206T234202Z
LAST-MODIFIED:20260318T153547Z
UID:10007000-1790863200-1790870400@oldbridgevillage.net
SUMMARY:Architectural meeting - White House
DESCRIPTION:Architectural meeting at the White House. \n1st & 3rd Thursday of every month – 2:00-4:00. \nResidents are welcome.
URL:https://oldbridgevillage.net/event/architectural-meeting-at-the-white-house-2/2026-10-01/
LOCATION:The White House
END:VEVENT
BEGIN:VEVENT
DTSTART;TZID=UTC:20261015T140000
DTEND;TZID=UTC:20261015T160000
DTSTAMP:20260422T074332
CREATED:20250206T234202Z
LAST-MODIFIED:20260318T153547Z
UID:10007001-1792072800-1792080000@oldbridgevillage.net
SUMMARY:Architectural meeting - White House
DESCRIPTION:Architectural meeting at the White House. \n1st & 3rd Thursday of every month – 2:00-4:00. \nResidents are welcome.
URL:https://oldbridgevillage.net/event/architectural-meeting-at-the-white-house-2/2026-10-15/
LOCATION:The White House
END:VEVENT
BEGIN:VEVENT
DTSTART;TZID=UTC:20261105T140000
DTEND;TZID=UTC:20261105T160000
DTSTAMP:20260422T074332
CREATED:20250206T234202Z
LAST-MODIFIED:20260318T153547Z
UID:10007002-1793887200-1793894400@oldbridgevillage.net
SUMMARY:Architectural meeting - White House
DESCRIPTION:Architectural meeting at the White House. \n1st & 3rd Thursday of every month – 2:00-4:00. \nResidents are welcome.
URL:https://oldbridgevillage.net/event/architectural-meeting-at-the-white-house-2/2026-11-05/
LOCATION:The White House
END:VEVENT
BEGIN:VEVENT
DTSTART;TZID=UTC:20261119T140000
DTEND;TZID=UTC:20261119T160000
DTSTAMP:20260422T074332
CREATED:20250206T234202Z
LAST-MODIFIED:20260318T153547Z
UID:10007003-1795096800-1795104000@oldbridgevillage.net
SUMMARY:Architectural meeting - White House
DESCRIPTION:Architectural meeting at the White House. \n1st & 3rd Thursday of every month – 2:00-4:00. \nResidents are welcome.
URL:https://oldbridgevillage.net/event/architectural-meeting-at-the-white-house-2/2026-11-19/
LOCATION:The White House
END:VEVENT
BEGIN:VEVENT
DTSTART;TZID=UTC:20261203T140000
DTEND;TZID=UTC:20261203T160000
DTSTAMP:20260422T074332
CREATED:20250206T234202Z
LAST-MODIFIED:20260318T153547Z
UID:10007004-1796306400-1796313600@oldbridgevillage.net
SUMMARY:Architectural meeting - White House
DESCRIPTION:Architectural meeting at the White House. \n1st & 3rd Thursday of every month – 2:00-4:00. \nResidents are welcome.
URL:https://oldbridgevillage.net/event/architectural-meeting-at-the-white-house-2/2026-12-03/
LOCATION:The White House
END:VEVENT
BEGIN:VEVENT
DTSTART;TZID=UTC:20261217T140000
DTEND;TZID=UTC:20261217T160000
DTSTAMP:20260422T074332
CREATED:20250206T234202Z
LAST-MODIFIED:20260318T153547Z
UID:10007005-1797516000-1797523200@oldbridgevillage.net
SUMMARY:Architectural meeting - White House
DESCRIPTION:Architectural meeting at the White House. \n1st & 3rd Thursday of every month – 2:00-4:00. \nResidents are welcome.
URL:https://oldbridgevillage.net/event/architectural-meeting-at-the-white-house-2/2026-12-17/
LOCATION:The White House
END:VEVENT
BEGIN:VEVENT
DTSTART;TZID=UTC:20270107T140000
DTEND;TZID=UTC:20270107T160000
DTSTAMP:20260422T074332
CREATED:20250206T234202Z
LAST-MODIFIED:20260318T153547Z
UID:10007006-1799330400-1799337600@oldbridgevillage.net
SUMMARY:Architectural meeting - White House
DESCRIPTION:Architectural meeting at the White House. \n1st & 3rd Thursday of every month – 2:00-4:00. \nResidents are welcome.
URL:https://oldbridgevillage.net/event/architectural-meeting-at-the-white-house-2/2027-01-07/
LOCATION:The White House
END:VEVENT
BEGIN:VEVENT
DTSTART;TZID=UTC:20270121T140000
DTEND;TZID=UTC:20270121T160000
DTSTAMP:20260422T074332
CREATED:20250206T234202Z
LAST-MODIFIED:20260318T153547Z
UID:10007007-1800540000-1800547200@oldbridgevillage.net
SUMMARY:Architectural meeting - White House
DESCRIPTION:Architectural meeting at the White House. \n1st & 3rd Thursday of every month – 2:00-4:00. \nResidents are welcome.
URL:https://oldbridgevillage.net/event/architectural-meeting-at-the-white-house-2/2027-01-21/
LOCATION:The White House
END:VEVENT
BEGIN:VEVENT
DTSTART;TZID=UTC:20270204T140000
DTEND;TZID=UTC:20270204T160000
DTSTAMP:20260422T074332
CREATED:20250206T234202Z
LAST-MODIFIED:20260318T153547Z
UID:10007008-1801749600-1801756800@oldbridgevillage.net
SUMMARY:Architectural meeting - White House
DESCRIPTION:Architectural meeting at the White House. \n1st & 3rd Thursday of every month – 2:00-4:00. \nResidents are welcome.
URL:https://oldbridgevillage.net/event/architectural-meeting-at-the-white-house-2/2027-02-04/
LOCATION:The White House
END:VEVENT
BEGIN:VEVENT
DTSTART;TZID=UTC:20270218T140000
DTEND;TZID=UTC:20270218T160000
DTSTAMP:20260422T074332
CREATED:20250206T234202Z
LAST-MODIFIED:20260318T153547Z
UID:10007009-1802959200-1802966400@oldbridgevillage.net
SUMMARY:Architectural meeting - White House
DESCRIPTION:Architectural meeting at the White House. \n1st & 3rd Thursday of every month – 2:00-4:00. \nResidents are welcome.
URL:https://oldbridgevillage.net/event/architectural-meeting-at-the-white-house-2/2027-02-18/
LOCATION:The White House
END:VEVENT
BEGIN:VEVENT
DTSTART;TZID=UTC:20270304T140000
DTEND;TZID=UTC:20270304T160000
DTSTAMP:20260422T074332
CREATED:20250206T234202Z
LAST-MODIFIED:20260318T153547Z
UID:10007010-1804168800-1804176000@oldbridgevillage.net
SUMMARY:Architectural meeting - White House
DESCRIPTION:Architectural meeting at the White House. \n1st & 3rd Thursday of every month – 2:00-4:00. \nResidents are welcome.
URL:https://oldbridgevillage.net/event/architectural-meeting-at-the-white-house-2/2027-03-04/
LOCATION:The White House
END:VEVENT
BEGIN:VEVENT
DTSTART;TZID=UTC:20270318T140000
DTEND;TZID=UTC:20270318T160000
DTSTAMP:20260422T074332
CREATED:20250206T234202Z
LAST-MODIFIED:20260318T153547Z
UID:10007011-1805378400-1805385600@oldbridgevillage.net
SUMMARY:Architectural meeting - White House
DESCRIPTION:Architectural meeting at the White House. \n1st & 3rd Thursday of every month – 2:00-4:00. \nResidents are welcome.
URL:https://oldbridgevillage.net/event/architectural-meeting-at-the-white-house-2/2027-03-18/
LOCATION:The White House
END:VEVENT
BEGIN:VEVENT
DTSTART;TZID=UTC:20270401T140000
DTEND;TZID=UTC:20270401T160000
DTSTAMP:20260422T074332
CREATED:20250206T234202Z
LAST-MODIFIED:20260318T153547Z
UID:10007012-1806588000-1806595200@oldbridgevillage.net
SUMMARY:Architectural meeting - White House
DESCRIPTION:Architectural meeting at the White House. \n1st & 3rd Thursday of every month – 2:00-4:00. \nResidents are welcome.
URL:https://oldbridgevillage.net/event/architectural-meeting-at-the-white-house-2/2027-04-01/
LOCATION:The White House
END:VEVENT
BEGIN:VEVENT
DTSTART;TZID=UTC:20270415T140000
DTEND;TZID=UTC:20270415T160000
DTSTAMP:20260422T074332
CREATED:20250206T234202Z
LAST-MODIFIED:20260318T153547Z
UID:10007013-1807797600-1807804800@oldbridgevillage.net
SUMMARY:Architectural meeting - White House
DESCRIPTION:Architectural meeting at the White House. \n1st & 3rd Thursday of every month – 2:00-4:00. \nResidents are welcome.
URL:https://oldbridgevillage.net/event/architectural-meeting-at-the-white-house-2/2027-04-15/
LOCATION:The White House
END:VEVENT
BEGIN:VEVENT
DTSTART;TZID=UTC:20270506T140000
DTEND;TZID=UTC:20270506T160000
DTSTAMP:20260422T074332
CREATED:20250206T234202Z
LAST-MODIFIED:20260318T153547Z
UID:10007014-1809612000-1809619200@oldbridgevillage.net
SUMMARY:Architectural meeting - White House
DESCRIPTION:Architectural meeting at the White House. \n1st & 3rd Thursday of every month – 2:00-4:00. \nResidents are welcome.
URL:https://oldbridgevillage.net/event/architectural-meeting-at-the-white-house-2/2027-05-06/
LOCATION:The White House
END:VEVENT
BEGIN:VEVENT
DTSTART;TZID=UTC:20270520T140000
DTEND;TZID=UTC:20270520T160000
DTSTAMP:20260422T074332
CREATED:20250206T234202Z
LAST-MODIFIED:20260318T153547Z
UID:10007015-1810821600-1810828800@oldbridgevillage.net
SUMMARY:Architectural meeting - White House
DESCRIPTION:Architectural meeting at the White House. \n1st & 3rd Thursday of every month – 2:00-4:00. \nResidents are welcome.
URL:https://oldbridgevillage.net/event/architectural-meeting-at-the-white-house-2/2027-05-20/
LOCATION:The White House
END:VEVENT
BEGIN:VEVENT
DTSTART;TZID=UTC:20270603T140000
DTEND;TZID=UTC:20270603T160000
DTSTAMP:20260422T074332
CREATED:20250206T234202Z
LAST-MODIFIED:20260318T153547Z
UID:10007016-1812031200-1812038400@oldbridgevillage.net
SUMMARY:Architectural meeting - White House
DESCRIPTION:Architectural meeting at the White House. \n1st & 3rd Thursday of every month – 2:00-4:00. \nResidents are welcome.
URL:https://oldbridgevillage.net/event/architectural-meeting-at-the-white-house-2/2027-06-03/
LOCATION:The White House
END:VEVENT
BEGIN:VEVENT
DTSTART;TZID=UTC:20270617T140000
DTEND;TZID=UTC:20270617T160000
DTSTAMP:20260422T074332
CREATED:20250206T234202Z
LAST-MODIFIED:20260318T153547Z
UID:10007017-1813240800-1813248000@oldbridgevillage.net
SUMMARY:Architectural meeting - White House
DESCRIPTION:Architectural meeting at the White House. \n1st & 3rd Thursday of every month – 2:00-4:00. \nResidents are welcome.
URL:https://oldbridgevillage.net/event/architectural-meeting-at-the-white-house-2/2027-06-17/
LOCATION:The White House
END:VEVENT
BEGIN:VEVENT
DTSTART;TZID=UTC:20270701T140000
DTEND;TZID=UTC:20270701T160000
DTSTAMP:20260422T074332
CREATED:20250206T234202Z
LAST-MODIFIED:20260318T153547Z
UID:10007018-1814450400-1814457600@oldbridgevillage.net
SUMMARY:Architectural meeting - White House
DESCRIPTION:Architectural meeting at the White House. \n1st & 3rd Thursday of every month – 2:00-4:00. \nResidents are welcome.
URL:https://oldbridgevillage.net/event/architectural-meeting-at-the-white-house-2/2027-07-01/
LOCATION:The White House
END:VEVENT
BEGIN:VEVENT
DTSTART;TZID=UTC:20270715T140000
DTEND;TZID=UTC:20270715T160000
DTSTAMP:20260422T074332
CREATED:20250206T234202Z
LAST-MODIFIED:20260318T153547Z
UID:10007019-1815660000-1815667200@oldbridgevillage.net
SUMMARY:Architectural meeting - White House
DESCRIPTION:Architectural meeting at the White House. \n1st & 3rd Thursday of every month – 2:00-4:00. \nResidents are welcome.
URL:https://oldbridgevillage.net/event/architectural-meeting-at-the-white-house-2/2027-07-15/
LOCATION:The White House
END:VEVENT
END:VCALENDAR