BEGIN:VCALENDAR
VERSION:2.0
PRODID:-//Old Bridge Village - ECPv6.15.14//NONSGML v1.0//EN
CALSCALE:GREGORIAN
METHOD:PUBLISH
X-ORIGINAL-URL:https://oldbridgevillage.net
X-WR-CALDESC:Events for Old Bridge Village
REFRESH-INTERVAL;VALUE=DURATION:PT1H
X-Robots-Tag:noindex
X-PUBLISHED-TTL:PT1H
BEGIN:VTIMEZONE
TZID:America/New_York
BEGIN:DAYLIGHT
TZOFFSETFROM:-0500
TZOFFSETTO:-0400
TZNAME:EDT
DTSTART:20250309T070000
END:DAYLIGHT
BEGIN:STANDARD
TZOFFSETFROM:-0400
TZOFFSETTO:-0500
TZNAME:EST
DTSTART:20251102T060000
END:STANDARD
BEGIN:DAYLIGHT
TZOFFSETFROM:-0500
TZOFFSETTO:-0400
TZNAME:EDT
DTSTART:20260308T070000
END:DAYLIGHT
BEGIN:STANDARD
TZOFFSETFROM:-0400
TZOFFSETTO:-0500
TZNAME:EST
DTSTART:20261101T060000
END:STANDARD
BEGIN:DAYLIGHT
TZOFFSETFROM:-0500
TZOFFSETTO:-0400
TZNAME:EDT
DTSTART:20270314T070000
END:DAYLIGHT
BEGIN:STANDARD
TZOFFSETFROM:-0400
TZOFFSETTO:-0500
TZNAME:EST
DTSTART:20271107T060000
END:STANDARD
END:VTIMEZONE
BEGIN:VTIMEZONE
TZID:UTC
BEGIN:STANDARD
TZOFFSETFROM:+0000
TZOFFSETTO:+0000
TZNAME:UTC
DTSTART:20250101T000000
END:STANDARD
END:VTIMEZONE
BEGIN:VEVENT
DTSTART;TZID=America/New_York:20260906T130000
DTEND;TZID=America/New_York:20260906T170000
DTSTAMP:20260421T071611
CREATED:20250909T215752Z
LAST-MODIFIED:20260221T171656Z
UID:10006513-1788699600-1788714000@oldbridgevillage.net
SUMMARY:Private - Hand\, Knee & Foot - Clubhouse
DESCRIPTION:Hand\, Knee & Foot – every Sunday in the Clubhouse\, 1:00-5:00. \nPrivate event. \nSandy LaChance
URL:https://oldbridgevillage.net/event/private-hand-knee-foot-clubhouse/2026-09-06/
LOCATION:The Clubhouse
END:VEVENT
BEGIN:VEVENT
DTSTART;TZID=UTC:20260910T120000
DTEND;TZID=UTC:20260910T160000
DTSTAMP:20260421T071611
CREATED:20250303T214208Z
LAST-MODIFIED:20260205T155844Z
UID:10005833-1789041600-1789056000@oldbridgevillage.net
SUMMARY:Private - Samba Cards - Clubhouse
DESCRIPTION:Samba Cards\, every Thursday at the Clubhouse\, 12:00-4:00pm. \nPrivate event. \nSandy LaChance
URL:https://oldbridgevillage.net/event/private-samba-cards-clubhouse/2026-09-10/
LOCATION:The Clubhouse
END:VEVENT
BEGIN:VEVENT
DTSTART;TZID=America/New_York:20260913T130000
DTEND;TZID=America/New_York:20260913T170000
DTSTAMP:20260421T071611
CREATED:20250909T215752Z
LAST-MODIFIED:20260221T171656Z
UID:10006514-1789304400-1789318800@oldbridgevillage.net
SUMMARY:Private - Hand\, Knee & Foot - Clubhouse
DESCRIPTION:Hand\, Knee & Foot – every Sunday in the Clubhouse\, 1:00-5:00. \nPrivate event. \nSandy LaChance
URL:https://oldbridgevillage.net/event/private-hand-knee-foot-clubhouse/2026-09-13/
LOCATION:The Clubhouse
END:VEVENT
BEGIN:VEVENT
DTSTART;TZID=UTC:20260917T120000
DTEND;TZID=UTC:20260917T160000
DTSTAMP:20260421T071611
CREATED:20250303T214208Z
LAST-MODIFIED:20260205T155844Z
UID:10005834-1789646400-1789660800@oldbridgevillage.net
SUMMARY:Private - Samba Cards - Clubhouse
DESCRIPTION:Samba Cards\, every Thursday at the Clubhouse\, 12:00-4:00pm. \nPrivate event. \nSandy LaChance
URL:https://oldbridgevillage.net/event/private-samba-cards-clubhouse/2026-09-17/
LOCATION:The Clubhouse
END:VEVENT
BEGIN:VEVENT
DTSTART;TZID=America/New_York:20260920T130000
DTEND;TZID=America/New_York:20260920T170000
DTSTAMP:20260421T071611
CREATED:20250909T215752Z
LAST-MODIFIED:20260221T171656Z
UID:10006515-1789909200-1789923600@oldbridgevillage.net
SUMMARY:Private - Hand\, Knee & Foot - Clubhouse
DESCRIPTION:Hand\, Knee & Foot – every Sunday in the Clubhouse\, 1:00-5:00. \nPrivate event. \nSandy LaChance
URL:https://oldbridgevillage.net/event/private-hand-knee-foot-clubhouse/2026-09-20/
LOCATION:The Clubhouse
END:VEVENT
BEGIN:VEVENT
DTSTART;TZID=UTC:20260924T120000
DTEND;TZID=UTC:20260924T160000
DTSTAMP:20260421T071611
CREATED:20250303T214208Z
LAST-MODIFIED:20260205T155844Z
UID:10005835-1790251200-1790265600@oldbridgevillage.net
SUMMARY:Private - Samba Cards - Clubhouse
DESCRIPTION:Samba Cards\, every Thursday at the Clubhouse\, 12:00-4:00pm. \nPrivate event. \nSandy LaChance
URL:https://oldbridgevillage.net/event/private-samba-cards-clubhouse/2026-09-24/
LOCATION:The Clubhouse
END:VEVENT
BEGIN:VEVENT
DTSTART;TZID=America/New_York:20260927T130000
DTEND;TZID=America/New_York:20260927T170000
DTSTAMP:20260421T071611
CREATED:20250909T215752Z
LAST-MODIFIED:20260221T171656Z
UID:10006516-1790514000-1790528400@oldbridgevillage.net
SUMMARY:Private - Hand\, Knee & Foot - Clubhouse
DESCRIPTION:Hand\, Knee & Foot – every Sunday in the Clubhouse\, 1:00-5:00. \nPrivate event. \nSandy LaChance
URL:https://oldbridgevillage.net/event/private-hand-knee-foot-clubhouse/2026-09-27/
LOCATION:The Clubhouse
END:VEVENT
BEGIN:VEVENT
DTSTART;TZID=UTC:20261001T120000
DTEND;TZID=UTC:20261001T160000
DTSTAMP:20260421T071611
CREATED:20250303T214208Z
LAST-MODIFIED:20260205T155844Z
UID:10005836-1790856000-1790870400@oldbridgevillage.net
SUMMARY:Private - Samba Cards - Clubhouse
DESCRIPTION:Samba Cards\, every Thursday at the Clubhouse\, 12:00-4:00pm. \nPrivate event. \nSandy LaChance
URL:https://oldbridgevillage.net/event/private-samba-cards-clubhouse/2026-10-01/
LOCATION:The Clubhouse
END:VEVENT
BEGIN:VEVENT
DTSTART;TZID=America/New_York:20261004T130000
DTEND;TZID=America/New_York:20261004T170000
DTSTAMP:20260421T071611
CREATED:20250909T215752Z
LAST-MODIFIED:20260221T171656Z
UID:10006517-1791118800-1791133200@oldbridgevillage.net
SUMMARY:Private - Hand\, Knee & Foot - Clubhouse
DESCRIPTION:Hand\, Knee & Foot – every Sunday in the Clubhouse\, 1:00-5:00. \nPrivate event. \nSandy LaChance
URL:https://oldbridgevillage.net/event/private-hand-knee-foot-clubhouse/2026-10-04/
LOCATION:The Clubhouse
END:VEVENT
BEGIN:VEVENT
DTSTART;TZID=UTC:20261008T120000
DTEND;TZID=UTC:20261008T160000
DTSTAMP:20260421T071611
CREATED:20250303T214208Z
LAST-MODIFIED:20260205T155844Z
UID:10005837-1791460800-1791475200@oldbridgevillage.net
SUMMARY:Private - Samba Cards - Clubhouse
DESCRIPTION:Samba Cards\, every Thursday at the Clubhouse\, 12:00-4:00pm. \nPrivate event. \nSandy LaChance
URL:https://oldbridgevillage.net/event/private-samba-cards-clubhouse/2026-10-08/
LOCATION:The Clubhouse
END:VEVENT
BEGIN:VEVENT
DTSTART;TZID=America/New_York:20261011T130000
DTEND;TZID=America/New_York:20261011T170000
DTSTAMP:20260421T071611
CREATED:20250909T215752Z
LAST-MODIFIED:20260221T171656Z
UID:10006518-1791723600-1791738000@oldbridgevillage.net
SUMMARY:Private - Hand\, Knee & Foot - Clubhouse
DESCRIPTION:Hand\, Knee & Foot – every Sunday in the Clubhouse\, 1:00-5:00. \nPrivate event. \nSandy LaChance
URL:https://oldbridgevillage.net/event/private-hand-knee-foot-clubhouse/2026-10-11/
LOCATION:The Clubhouse
END:VEVENT
BEGIN:VEVENT
DTSTART;TZID=UTC:20261015T120000
DTEND;TZID=UTC:20261015T160000
DTSTAMP:20260421T071611
CREATED:20250303T214208Z
LAST-MODIFIED:20260205T155844Z
UID:10005838-1792065600-1792080000@oldbridgevillage.net
SUMMARY:Private - Samba Cards - Clubhouse
DESCRIPTION:Samba Cards\, every Thursday at the Clubhouse\, 12:00-4:00pm. \nPrivate event. \nSandy LaChance
URL:https://oldbridgevillage.net/event/private-samba-cards-clubhouse/2026-10-15/
LOCATION:The Clubhouse
END:VEVENT
BEGIN:VEVENT
DTSTART;TZID=America/New_York:20261018T130000
DTEND;TZID=America/New_York:20261018T170000
DTSTAMP:20260421T071611
CREATED:20250909T215752Z
LAST-MODIFIED:20260221T171656Z
UID:10006519-1792328400-1792342800@oldbridgevillage.net
SUMMARY:Private - Hand\, Knee & Foot - Clubhouse
DESCRIPTION:Hand\, Knee & Foot – every Sunday in the Clubhouse\, 1:00-5:00. \nPrivate event. \nSandy LaChance
URL:https://oldbridgevillage.net/event/private-hand-knee-foot-clubhouse/2026-10-18/
LOCATION:The Clubhouse
END:VEVENT
BEGIN:VEVENT
DTSTART;TZID=UTC:20261022T120000
DTEND;TZID=UTC:20261022T160000
DTSTAMP:20260421T071611
CREATED:20250303T214208Z
LAST-MODIFIED:20260205T155844Z
UID:10005839-1792670400-1792684800@oldbridgevillage.net
SUMMARY:Private - Samba Cards - Clubhouse
DESCRIPTION:Samba Cards\, every Thursday at the Clubhouse\, 12:00-4:00pm. \nPrivate event. \nSandy LaChance
URL:https://oldbridgevillage.net/event/private-samba-cards-clubhouse/2026-10-22/
LOCATION:The Clubhouse
END:VEVENT
BEGIN:VEVENT
DTSTART;TZID=America/New_York:20261025T130000
DTEND;TZID=America/New_York:20261025T170000
DTSTAMP:20260421T071611
CREATED:20250909T215752Z
LAST-MODIFIED:20260221T171656Z
UID:10006520-1792933200-1792947600@oldbridgevillage.net
SUMMARY:Private - Hand\, Knee & Foot - Clubhouse
DESCRIPTION:Hand\, Knee & Foot – every Sunday in the Clubhouse\, 1:00-5:00. \nPrivate event. \nSandy LaChance
URL:https://oldbridgevillage.net/event/private-hand-knee-foot-clubhouse/2026-10-25/
LOCATION:The Clubhouse
END:VEVENT
BEGIN:VEVENT
DTSTART;TZID=UTC:20261029T120000
DTEND;TZID=UTC:20261029T160000
DTSTAMP:20260421T071611
CREATED:20250303T214208Z
LAST-MODIFIED:20260205T155844Z
UID:10005840-1793275200-1793289600@oldbridgevillage.net
SUMMARY:Private - Samba Cards - Clubhouse
DESCRIPTION:Samba Cards\, every Thursday at the Clubhouse\, 12:00-4:00pm. \nPrivate event. \nSandy LaChance
URL:https://oldbridgevillage.net/event/private-samba-cards-clubhouse/2026-10-29/
LOCATION:The Clubhouse
END:VEVENT
BEGIN:VEVENT
DTSTART;TZID=America/New_York:20261101T130000
DTEND;TZID=America/New_York:20261101T170000
DTSTAMP:20260421T071611
CREATED:20250909T215752Z
LAST-MODIFIED:20260221T171656Z
UID:10006521-1793538000-1793552400@oldbridgevillage.net
SUMMARY:Private - Hand\, Knee & Foot - Clubhouse
DESCRIPTION:Hand\, Knee & Foot – every Sunday in the Clubhouse\, 1:00-5:00. \nPrivate event. \nSandy LaChance
URL:https://oldbridgevillage.net/event/private-hand-knee-foot-clubhouse/2026-11-01/
LOCATION:The Clubhouse
END:VEVENT
BEGIN:VEVENT
DTSTART;TZID=UTC:20261105T120000
DTEND;TZID=UTC:20261105T160000
DTSTAMP:20260421T071611
CREATED:20250303T214208Z
LAST-MODIFIED:20260205T155844Z
UID:10005841-1793880000-1793894400@oldbridgevillage.net
SUMMARY:Private - Samba Cards - Clubhouse
DESCRIPTION:Samba Cards\, every Thursday at the Clubhouse\, 12:00-4:00pm. \nPrivate event. \nSandy LaChance
URL:https://oldbridgevillage.net/event/private-samba-cards-clubhouse/2026-11-05/
LOCATION:The Clubhouse
END:VEVENT
BEGIN:VEVENT
DTSTART;TZID=America/New_York:20261108T130000
DTEND;TZID=America/New_York:20261108T170000
DTSTAMP:20260421T071611
CREATED:20250909T215752Z
LAST-MODIFIED:20260221T171656Z
UID:10006522-1794142800-1794157200@oldbridgevillage.net
SUMMARY:Private - Hand\, Knee & Foot - Clubhouse
DESCRIPTION:Hand\, Knee & Foot – every Sunday in the Clubhouse\, 1:00-5:00. \nPrivate event. \nSandy LaChance
URL:https://oldbridgevillage.net/event/private-hand-knee-foot-clubhouse/2026-11-08/
LOCATION:The Clubhouse
END:VEVENT
BEGIN:VEVENT
DTSTART;TZID=UTC:20261112T120000
DTEND;TZID=UTC:20261112T160000
DTSTAMP:20260421T071611
CREATED:20250303T214208Z
LAST-MODIFIED:20260205T155844Z
UID:10005842-1794484800-1794499200@oldbridgevillage.net
SUMMARY:Private - Samba Cards - Clubhouse
DESCRIPTION:Samba Cards\, every Thursday at the Clubhouse\, 12:00-4:00pm. \nPrivate event. \nSandy LaChance
URL:https://oldbridgevillage.net/event/private-samba-cards-clubhouse/2026-11-12/
LOCATION:The Clubhouse
END:VEVENT
BEGIN:VEVENT
DTSTART;TZID=America/New_York:20261115T130000
DTEND;TZID=America/New_York:20261115T170000
DTSTAMP:20260421T071611
CREATED:20250909T215752Z
LAST-MODIFIED:20260221T171656Z
UID:10006523-1794747600-1794762000@oldbridgevillage.net
SUMMARY:Private - Hand\, Knee & Foot - Clubhouse
DESCRIPTION:Hand\, Knee & Foot – every Sunday in the Clubhouse\, 1:00-5:00. \nPrivate event. \nSandy LaChance
URL:https://oldbridgevillage.net/event/private-hand-knee-foot-clubhouse/2026-11-15/
LOCATION:The Clubhouse
END:VEVENT
BEGIN:VEVENT
DTSTART;TZID=UTC:20261119T120000
DTEND;TZID=UTC:20261119T160000
DTSTAMP:20260421T071611
CREATED:20250303T214208Z
LAST-MODIFIED:20260205T155844Z
UID:10005843-1795089600-1795104000@oldbridgevillage.net
SUMMARY:Private - Samba Cards - Clubhouse
DESCRIPTION:Samba Cards\, every Thursday at the Clubhouse\, 12:00-4:00pm. \nPrivate event. \nSandy LaChance
URL:https://oldbridgevillage.net/event/private-samba-cards-clubhouse/2026-11-19/
LOCATION:The Clubhouse
END:VEVENT
BEGIN:VEVENT
DTSTART;TZID=America/New_York:20261122T130000
DTEND;TZID=America/New_York:20261122T170000
DTSTAMP:20260421T071611
CREATED:20250909T215752Z
LAST-MODIFIED:20260221T171656Z
UID:10006524-1795352400-1795366800@oldbridgevillage.net
SUMMARY:Private - Hand\, Knee & Foot - Clubhouse
DESCRIPTION:Hand\, Knee & Foot – every Sunday in the Clubhouse\, 1:00-5:00. \nPrivate event. \nSandy LaChance
URL:https://oldbridgevillage.net/event/private-hand-knee-foot-clubhouse/2026-11-22/
LOCATION:The Clubhouse
END:VEVENT
BEGIN:VEVENT
DTSTART;TZID=UTC:20261126T120000
DTEND;TZID=UTC:20261126T160000
DTSTAMP:20260421T071611
CREATED:20250303T214208Z
LAST-MODIFIED:20260205T155844Z
UID:10005844-1795694400-1795708800@oldbridgevillage.net
SUMMARY:Private - Samba Cards - Clubhouse
DESCRIPTION:Samba Cards\, every Thursday at the Clubhouse\, 12:00-4:00pm. \nPrivate event. \nSandy LaChance
URL:https://oldbridgevillage.net/event/private-samba-cards-clubhouse/2026-11-26/
LOCATION:The Clubhouse
END:VEVENT
BEGIN:VEVENT
DTSTART;TZID=America/New_York:20261129T130000
DTEND;TZID=America/New_York:20261129T170000
DTSTAMP:20260421T071611
CREATED:20250909T215752Z
LAST-MODIFIED:20260221T171656Z
UID:10006525-1795957200-1795971600@oldbridgevillage.net
SUMMARY:Private - Hand\, Knee & Foot - Clubhouse
DESCRIPTION:Hand\, Knee & Foot – every Sunday in the Clubhouse\, 1:00-5:00. \nPrivate event. \nSandy LaChance
URL:https://oldbridgevillage.net/event/private-hand-knee-foot-clubhouse/2026-11-29/
LOCATION:The Clubhouse
END:VEVENT
BEGIN:VEVENT
DTSTART;TZID=UTC:20261203T120000
DTEND;TZID=UTC:20261203T160000
DTSTAMP:20260421T071611
CREATED:20250303T214208Z
LAST-MODIFIED:20260205T155844Z
UID:10005845-1796299200-1796313600@oldbridgevillage.net
SUMMARY:Private - Samba Cards - Clubhouse
DESCRIPTION:Samba Cards\, every Thursday at the Clubhouse\, 12:00-4:00pm. \nPrivate event. \nSandy LaChance
URL:https://oldbridgevillage.net/event/private-samba-cards-clubhouse/2026-12-03/
LOCATION:The Clubhouse
END:VEVENT
BEGIN:VEVENT
DTSTART;TZID=America/New_York:20261206T130000
DTEND;TZID=America/New_York:20261206T170000
DTSTAMP:20260421T071611
CREATED:20250909T215752Z
LAST-MODIFIED:20260221T171656Z
UID:10006526-1796562000-1796576400@oldbridgevillage.net
SUMMARY:Private - Hand\, Knee & Foot - Clubhouse
DESCRIPTION:Hand\, Knee & Foot – every Sunday in the Clubhouse\, 1:00-5:00. \nPrivate event. \nSandy LaChance
URL:https://oldbridgevillage.net/event/private-hand-knee-foot-clubhouse/2026-12-06/
LOCATION:The Clubhouse
END:VEVENT
BEGIN:VEVENT
DTSTART;TZID=UTC:20261210T120000
DTEND;TZID=UTC:20261210T160000
DTSTAMP:20260421T071611
CREATED:20250303T214208Z
LAST-MODIFIED:20260205T155844Z
UID:10005846-1796904000-1796918400@oldbridgevillage.net
SUMMARY:Private - Samba Cards - Clubhouse
DESCRIPTION:Samba Cards\, every Thursday at the Clubhouse\, 12:00-4:00pm. \nPrivate event. \nSandy LaChance
URL:https://oldbridgevillage.net/event/private-samba-cards-clubhouse/2026-12-10/
LOCATION:The Clubhouse
END:VEVENT
BEGIN:VEVENT
DTSTART;TZID=America/New_York:20261213T130000
DTEND;TZID=America/New_York:20261213T170000
DTSTAMP:20260421T071611
CREATED:20250909T215752Z
LAST-MODIFIED:20260221T171656Z
UID:10006527-1797166800-1797181200@oldbridgevillage.net
SUMMARY:Private - Hand\, Knee & Foot - Clubhouse
DESCRIPTION:Hand\, Knee & Foot – every Sunday in the Clubhouse\, 1:00-5:00. \nPrivate event. \nSandy LaChance
URL:https://oldbridgevillage.net/event/private-hand-knee-foot-clubhouse/2026-12-13/
LOCATION:The Clubhouse
END:VEVENT
BEGIN:VEVENT
DTSTART;TZID=UTC:20261217T120000
DTEND;TZID=UTC:20261217T160000
DTSTAMP:20260421T071611
CREATED:20250303T214208Z
LAST-MODIFIED:20260205T155844Z
UID:10005847-1797508800-1797523200@oldbridgevillage.net
SUMMARY:Private - Samba Cards - Clubhouse
DESCRIPTION:Samba Cards\, every Thursday at the Clubhouse\, 12:00-4:00pm. \nPrivate event. \nSandy LaChance
URL:https://oldbridgevillage.net/event/private-samba-cards-clubhouse/2026-12-17/
LOCATION:The Clubhouse
END:VEVENT
END:VCALENDAR